BEGIN:VCALENDAR
VERSION:2.0
PRODID:-//Vereinsheim Wombach - ECPv6.15.14//NONSGML v1.0//EN
CALSCALE:GREGORIAN
METHOD:PUBLISH
X-WR-CALNAME:Vereinsheim Wombach
X-ORIGINAL-URL:https://vereinsheim-wombach.de
X-WR-CALDESC:Veranstaltungen für Vereinsheim Wombach
REFRESH-INTERVAL;VALUE=DURATION:PT1H
X-Robots-Tag:noindex
X-PUBLISHED-TTL:PT1H
BEGIN:VTIMEZONE
TZID:Europe/Berlin
BEGIN:DAYLIGHT
TZOFFSETFROM:+0100
TZOFFSETTO:+0200
TZNAME:CEST
DTSTART:20210328T010000
END:DAYLIGHT
BEGIN:STANDARD
TZOFFSETFROM:+0200
TZOFFSETTO:+0100
TZNAME:CET
DTSTART:20211031T010000
END:STANDARD
BEGIN:DAYLIGHT
TZOFFSETFROM:+0100
TZOFFSETTO:+0200
TZNAME:CEST
DTSTART:20220327T010000
END:DAYLIGHT
BEGIN:STANDARD
TZOFFSETFROM:+0200
TZOFFSETTO:+0100
TZNAME:CET
DTSTART:20221030T010000
END:STANDARD
BEGIN:DAYLIGHT
TZOFFSETFROM:+0100
TZOFFSETTO:+0200
TZNAME:CEST
DTSTART:20230326T010000
END:DAYLIGHT
BEGIN:STANDARD
TZOFFSETFROM:+0200
TZOFFSETTO:+0100
TZNAME:CET
DTSTART:20231029T010000
END:STANDARD
END:VTIMEZONE
BEGIN:VEVENT
DTSTART;VALUE=DATE:20220716
DTEND;VALUE=DATE:20220719
DTSTAMP:20260422T222124
CREATED:20220325T201239Z
LAST-MODIFIED:20220410T143438Z
UID:255-1657951200-1658123999@vereinsheim-wombach.de
SUMMARY:Wombacher Bike-Tage 2022
DESCRIPTION:16. Juli Bundes-Nachwuchssichtung und Sparkassen Kids Cup\n17. Juli Bundes-Nachwuchssichtung und MTB-Bayernliga\nVon Samstag\, 16. bis Sonntag\, 24. Juli 2022 treffen sich rund um das Wombacher Vereinsheim wieder erfahrene Mountainbike-Profis\, Hobbybiker und die Nachwuchshoffnungen der Zukunft. Die Veranstaltung steht unter dem Vorbehalt aktueller pandemiebedingter Regelungen. Alle weiteren Informationen und aktuelle Hinweise unter www.keiler-bike.de.
URL:https://vereinsheim-wombach.de/event/wombacher-bike-tage-2022/
LOCATION:Vereinsheim Wombach\, Zur Wolfswiese 19\, Wombach\, Bayern\, 97816\, Deutschland
CATEGORIES:Termine
ATTACH;FMTTYPE=image/jpeg:https://vereinsheim-wombach.de/wp-content/uploads/biketage2022.jpg
ORGANIZER;CN="RV Viktoria Wombach e.V.":MAILTO:info@keiler-bike.de
END:VEVENT
BEGIN:VEVENT
DTSTART;VALUE=DATE:20220724
DTEND;VALUE=DATE:20220726
DTSTAMP:20260422T222124
CREATED:20220325T201522Z
LAST-MODIFIED:20221022T110911Z
UID:260-1658642400-1658728799@vereinsheim-wombach.de
SUMMARY:Wombacher Bike-Tage 2022 -  26. Keiler Bike-Marathon
DESCRIPTION:24. Juli Keiler Bike-Marathon\nVon Samstag\, 16. bis Sonntag\, 24. Juli 2022 treffen sich rund um das Wombacher Vereinsheim wieder erfahrene Mountainbike-Profis\, Hobbybiker und die Nachwuchshoffnungen der Zukunft. Die Veranstaltung steht unter dem Vorbehalt aktueller pandemiebedingter Regelungen. Alle weiteren Informationen und aktuelle Hinweise unter www.keiler-bike.de.
URL:https://vereinsheim-wombach.de/event/wombacher-bike-tage-2022-26-keiler-bike-marathon/
LOCATION:Vereinsheim Wombach\, Zur Wolfswiese 19\, Wombach\, Bayern\, 97816\, Deutschland
CATEGORIES:Termine
ATTACH;FMTTYPE=image/jpeg:https://vereinsheim-wombach.de/wp-content/uploads/biketage2022.jpg
ORGANIZER;CN="RV Viktoria Wombach e.V.":MAILTO:info@keiler-bike.de
END:VEVENT
END:VCALENDAR